{"text_format":"1","workbook":"xlsx","n_sheets":5,"sheets":["Preamble","Method","Worksheet","Summary","Data"],"not_rendered":{"charts":0,"images":1,"macros":1,"external_links":0,"defined_names":3,"comments":0,"pivot_tables":0},"unopened":[],"bounds":{"document_bytes":16777216,"sheet_cells":100000,"rows_first":2000,"rows_last":500,"rows_between":2000,"halvings":0,"cell_chars":16384,"cell_head_chars":4096},"cells_cut":0,"cells_raw":0,"read":"whole","date_system":"1900"}

{"sheet":"Preamble","index":0,"n_rows":0,"n_cols":0,"rows_kept":0,"cut":false,"hidden":false,"merged":[]}

{"sheet":"Method","index":1,"n_rows":76,"n_cols":1,"rows_kept":76,"cut":false,"hidden":false,"merged":[[68,0,68,8],[75,0,75,8],[4,0,4,9],[1,0,1,8],[3,0,3,8],[45,0,45,8],[46,0,46,8],[58,0,58,8],[59,0,59,8],[67,0,67,8]]}
["Passive Fire Protection Risk Assessment Tool: Method"]
["This is an assessment method to determine what is \"Practicable and Reasonable\" to repair in terms of s.112 of the New Zealand Building Act. NOTE: This assessment method should only only be used as part of an overall risk management process such as the one described in BRANZ Study Report 410. "]
[]
["Step 1: Assess Risk"]
[]
[]
[]
[]
[]
[]
[]
[]
[]
[]
[]
[]
[]
[]
[]
[]
[]
[]
[]
[]
[]
[]
[]
[]
[]
[]
[]
[]
[]
[]
[]
[]
[]
[]
[]
[]
[]
[]
[]
[]
[]
["Step 1: Assess Risk (continued)"]
[]
[]
[]
[]
[]
[]
[]
[]
[]
[]
[]
[]
["Step 2: Assess Cost and Time"]
[]
[]
[]
[]
[]
[]
[]
[]
["Step 3: Remediation Requirement"]
[]
[]
[]
[]
[]
[]
[]
["Step 4: Summary"]

{"sheet":"Worksheet","index":2,"n_rows":69,"n_cols":20,"rows_kept":69,"cut":false,"hidden":false,"merged":[[2,2,2,4],[0,0,0,13],[12,7,12,12],[18,7,18,12],[4,2,4,5],[6,0,6,13],[8,7,8,11],[2,7,2,8],[2,12,2,13],[4,8,5,13],[13,7,13,11],[14,7,14,11],[15,7,15,11],[16,7,16,11],[17,7,17,11],[9,7,9,11],[10,7,10,11],[11,7,11,11],[25,0,25,13],[44,10,46,13],[40,10,41,13],[42,10,42,13],[27,7,27,11],[21,1,21,12],[31,1,31,12],[28,7,28,8],[29,7,29,8],[28,10,28,11],[29,10,29,11],[28,9,29,9],[36,1,38,13],[43,1,45,1],[66,0,69,6],[60,0,60,13],[65,0,65,6],[65,8,65,13],[68,8,68,13],[66,8,67,13],[69,8,69,13],[61,0,63,13],[40,17,40,19],[39,17,39,19],[55,0,55,13],[56,0,56,13],[58,0,58,13],[52,2,52,5],[52,8,53,13],[43,10,43,13],[48,0,48,13],[50,2,50,4],[50,7,50,8],[50,12,50,13]]}
["Passive Fire - Risk/Cost Analysis: Worksheet"]
[]
["Job Name:",null,null,null,null,null,"Job No:",null,null,null,null,"Defect ID:"]
[]
["Location:",null,null,null,null,null,null,"Description:"]
[]
["Risk Factors (select from drop-down lists)"]
[]
["A:",{"$f":"Data!A4","v":"What is at Risk?"},null,null,null,null,null,"Adjacent Dwelling(s)",null,null,null,null,null,{"$f":"SUMIF(Data!B5:B8,H9,Data!A5:A8)","v":1}]
["B:",{"$f":"Data!A10","v":"Proximity to Fire Station"},null,null,null,null,null,"Within 5km, manned",null,null,null,null,null,{"$f":"SUMIF(Data!B11:B15,H10,Data!A11:A15)","v":0}]
["C:",{"$f":"Data!A17","v":"Construction Type"},null,null,null,null,null,"Concrete floors and IT walls",null,null,null,null,null,{"$f":"SUMIF(Data!B18:B20,H11,Data!A18:A20)","v":1}]
["D:",{"$f":"Data!A22","v":"Automatic Warning/Suppression"},null,null,null,null,null,"Interconnected Smoke Detectors",null,null,null,null,null,{"$f":"SUMIF(Data!B23:B26,H12,Data!A23:A26)","v":0.8}]
[null,null,null,null,null,null,null,"Building Risk Score (A+B+C)xD",null,null,null,null,null,{"$f":"SUM(N9:N11)*N12","v":1.6}]
["E:",{"$f":"Data!A28","v":"Size of Defect"},null,null,null,null,null,"Large",null,null,null,null,null,{"$f":"SUMIF(Data!B29:B32,H14,Data!A29:A32)","v":3}]
["F:",{"$f":"Data!A34","v":"Required FRR"},null,null,null,null,null,"30 Minutes",null,null,null,null,null,{"$f":"SUMIF(Data!B35:B41,H15,Data!A35:A41)","v":2},null,1,1]
["H:",{"$f":"Data!A43","v":"Risk to Structure"},null,null,null,null,null,"More than 1m away",null,null,null,null,null,{"$f":"SUMIF(Data!B44:B46,H16,Data!A44:A46)","v":0},null,{"$f":"P15+1","v":2},3]
["J:",{"$f":"Data!A48","v":"Ignition Source Within Room"},null,null,null,null,null,"None",null,null,null,null,null,{"$f":"SUMIF(Data!B49:B54,H17,Data!A49:A54)","v":0},null,{"$f":"P16+1","v":3},6]
["K:",{"$f":"Data!A55","v":"Vertical Spread"},null,null,null,null,null,"None",null,null,null,null,null,{"$f":"SUMIF(Data!B56:B59,H18,Data!A56:A59)","v":0},null,{"$f":"P17+1","v":4},10]
[null,null,null,null,null,null,null,"Defect Risk Score",null,null,null,null,null,{"$f":"SUM(N14:N18)","v":5},null,{"$f":"P18+1","v":5},15]
["G:","Current Level of Compliance",null,null,null,null,null,"(Certified by Passive Fire Consultant)",null,null,null,null,null,0,null,6,2]
[null,null,null,null,null,null,null,null,null,null,null,null,null,null,null,7,5]
[null,"Total Score: Building Risk x Defect Risk x (100-Current Level of Compliance)",null,null,null,null,null,null,null,null,null,null,null,{"$f":"N13*N19*(1-N20)","v":8},null,8,9]
[null,"Final Risk Score:",null,null,null,null,null,null,null,null,null,null,null,{"$f":"IF(N22<=Data!B63,1,IF(N22<=Data!B64,2,IF(N22<=Data!B65,3,IF(N22<=Data!B66,4,5))))","v":2},null,9,14]
[null,"Score Boundaries:",null,null,{"$f":"CONCATENATE(\"1: 0 - \",Data!B63,\",   2: \",Data!B63,\" - \",Data!B64,\",   3: \",Data!B64,\" - \",Data!B65,\",   4: \",Data!B65,\" - \",Data!B66,\",   5: \",Data!B66,\" +\")","v":"1: 0 - 6,   2: 6 - 12,   3: 12 - 19,   4: 19 - 25,   5: 25 +"},null,null,null,null,null,null,null,null,null,null,{"$f":"P23+1","v":10},19]
[null,null,null,null,null,null,null,null,null,null,null,null,null,null,null,11,4]
["Cost and Time Factors",null,null,null,null,null,null,null,null,null,null,null,null,null,null,12,8]
[null,null,null,null,null,null,null,null,null,null,null,null,null,null,null,13,13]
["M:",{"$f":"Data!D4","v":"Builder's Work Required"},null,null,null,null,null,"Minor (e.g. remove linings only)",null,null,null,null,null,{"$f":"SUMIF(Data!E5:E8,H28,Data!D5:D8)","v":1},null,{"$f":"P27+1","v":14},18]
["N:",{"$f":"Data!D10","v":"Total Cost of Work (per defect)"},null,null,null,null,null,"$0-$1000",null,"Source","Guess",null,null,{"$f":"SUMIF(Data!E11:E16,H29,Data!D11:D16)","v":1},null,{"$f":"P28+1","v":15},22]
["O:",{"$f":"Data!D18","v":"Additional Time Involved"},null,null,null,null,null,"1-2 weeks",null,null,"Estimate",null,null,{"$f":"SUMIF(Data!E19:E27,H30,Data!D19:D27)","v":2},null,16,7]
[null,null,null,null,null,null,null,null,null,null,null,null,null,null,null,{"$f":"P30+1","v":17},12]
[null,"Total Score: Sum of cost and time factors",null,null,null,null,null,null,null,null,null,null,null,{"$f":"SUM(N28:N30)","v":4},null,18,17]
[null,"Final Cost/Time Score:",null,null,null,null,null,null,null,null,null,null,null,{"$f":"IF(N32<=Data!E39,1,IF(N32<=Data!E40,2,IF(N32<=Data!E41,3,IF(N32<=Data!E42,4,5))))","v":2},null,19,21]
[null,"Score Boundaries:",null,null,{"$f":"CONCATENATE(\"1: 0 - \",Data!E39,\",   2: \",Data!E39,\" - \",Data!E40,\",   3: \",Data!E40,\" - \",Data!E41,\",   4: \",Data!E41,\" - \",Data!E42,\",   5: \",Data!E42,\" +\")","v":"1: 0 - 2,   2: 2 - 4,   3: 4 - 6,   4: 6 - 8,   5: 8 +"},null,null,null,null,null,null,null,null,null,null,20,24]
[null,null,null,null,null,null,null,null,null,null,null,null,null,null,null,21,11]
[null,"Passive Fire Consultant's Comments",null,null,null,null,null,null,null,null,null,null,null,null,null,22,16]
[null,null,null,null,null,null,null,null,null,null,null,null,null,null,null,{"$f":"P36+1","v":23},20]
[null,null,null,null,null,null,null,null,null,null,null,null,null,null,null,{"$f":"P37+1","v":24},23]
[null,null,null,null,null,null,null,null,null,null,null,null,null,null,null,{"$f":"P38+1","v":25},25]
[null,null,null,null,null,null,null,null,null,null,null,null,null,null,null,{"$f":"(6-N23)+(N33-1)*5","v":9},{"$f":"SUMIF(P15:P39,P40,Q15:Q39)","v":14},"Repair Priority"]
[null,null,null,"High",null,"Risk",null,"Low",null,null,{"$f":"IF(N20>0,\"Signature of Fire Engineer for Current Compliance:\",\"\")","v":""},null,null,null,null,null,null,{"$f":"IF(Q40<=3,\"V. Hi\",IF(Q40<=10,\"High\",IF(Q40<=19,\"Med\",\"Low\")))","v":"Med"}]
[null,null,null,5,4,3,2,1]
[null,"Low",1,"V. Hi","V. Hi","High","High","Med",null,null,null,null,null,null,null,1,3,6,10,15]
[null,"Cost/ Time",2,"V. Hi","High","High","Med","Med",null,null,"Outcome:",null,null,null,null,2,5,9,14,19]
[null,null,3,"High","High","Med","Med","Low",null,null,{"$f":"IF(H12=\"Sprinklers\",IF(Q40<=Data!F51,Data!D46,IF(Q40<=Data!F50,Data!D47,Data!D48)),IF(Q40<=Data!F50,Data!D46,Data!D48))","v":"REPAIR DEFECT"},null,null,null,null,4,8,13,18,22]
[null,null,4,"High","Med","Med","Low","Low",null,null,null,null,null,null,null,7,12,17,21,24]
[null,"High",5,"Med","Med","Low","Low","Low",null,null,null,null,null,null,null,11,16,20,23,25]
[{"$f":"CONCATENATE(\"Document Revision: \",Data!E53,\" Revised: \",Data!E54)","v":"Document Revision: A Revised: 43292"}]
["Passive Fire - Risk/Cost Analysis: Photos & Repair"]
[]
["Job Name:",null,{"$f":"C3","v":0},null,null,null,"Job No:",{"$f":"H3","v":0},null,null,null,"Defect ID:",{"$f":"M3","v":0}]
[]
["Location:",null,{"$f":"C5","v":0},null,null,null,null,"Description:",{"$f":"I5","v":0}]
[]
[]
["Defect Photos:"]
[]
[]
[]
[]
["Proposed Repair:"]
[]
[]
[]
[]
["Documentation References:",null,null,null,null,null,null,null,"Fire Engineer Sign-Off"]
[]
[]
[null,null,null,null,null,null,null,null,"Date:"]

{"sheet":"Summary","index":3,"n_rows":109,"n_cols":11,"rows_kept":109,"cut":false,"hidden":false,"merged":[[108,10,110,10],[52,2,52,5],[53,2,53,5],[54,2,54,5],[55,2,55,5],[107,2,107,5],[44,2,44,5],[38,2,38,5],[56,2,56,5],[57,2,57,5],[58,2,58,5],[59,2,59,5],[51,2,51,5],[45,2,45,5],[46,2,46,5],[47,2,47,5],[48,2,48,5],[49,2,49,5],[50,2,50,5],[39,2,39,5],[40,2,40,5],[41,2,41,5],[42,2,42,5],[43,2,43,5],[20,2,20,5],[21,2,21,5],[22,2,22,5],[23,2,23,5],[24,2,24,5],[33,2,33,5],[34,2,34,5],[35,2,35,5],[36,2,36,5],[31,2,31,5],[32,2,32,5],[25,2,25,5],[26,2,26,5],[27,2,27,5],[28,2,28,5],[60,2,60,5],[61,2,61,5],[62,2,62,5],[63,2,63,5],[64,2,64,5],[15,2,15,5],[1,1,1,9],[5,2,5,5],[6,2,6,5],[7,2,7,5],[8,2,8,5],[9,2,9,5],[10,2,10,5],[11,2,11,5],[12,2,12,5],[13,2,13,5],[14,2,14,5],[16,2,16,5],[17,2,17,5],[18,2,18,5],[19,2,19,5],[37,2,37,5],[29,2,29,5],[30,2,30,5],[70,2,70,5],[71,2,71,5],[72,2,72,5],[73,2,73,5],[74,2,74,5],[65,2,65,5],[66,2,66,5],[67,2,67,5],[68,2,68,5],[69,2,69,5],[80,2,80,5],[81,2,81,5],[82,2,82,5],[83,2,83,5],[84,2,84,5],[75,2,75,5],[76,2,76,5],[77,2,77,5],[78,2,78,5],[79,2,79,5],[90,2,90,5],[91,2,91,5],[92,2,92,5],[93,2,93,5],[94,2,94,5],[85,2,85,5],[86,2,86,5],[87,2,87,5],[88,2,88,5],[89,2,89,5],[105,2,105,5],[106,2,106,5],[100,2,100,5],[101,2,101,5],[102,2,102,5],[103,2,103,5],[104,2,104,5],[95,2,95,5],[96,2,96,5],[97,2,97,5],[98,2,98,5],[99,2,99,5]]}
[]
[null,"Passive Fire - Risk/Cost Analysis: Defect Summary"]
[]
[null,"Job Name:",{"$f":"Worksheet!C3","v":0},null,"Job No:",{"$f":"Worksheet!H3","v":0}]
[]
[null,"Defect ID","Description",null,null,null,"Location","Risk Score","$/Time Score","Repair Priority","Repair Outcome"]
[null,{"$f":"INDIRECT(\"'\"&A7&\"'!\"&\"$M$3\")","v":{"$error":"#REF!"}},{"$f":"INDIRECT(\"'\"&A7&\"'!\"&\"$I$5\")","v":{"$error":"#REF!"}},null,null,null,{"$f":"INDIRECT(\"'\"&A7&\"'!\"&\"$C$5\")","v":{"$error":"#REF!"}},{"$f":"INDIRECT(\"'\"&A7&\"'!\"&\"$N$23\")","v":{"$error":"#REF!"}},{"$f":"INDIRECT(\"'\"&A7&\"'!\"&\"$N$33\")","v":{"$error":"#REF!"}},{"$f":"INDIRECT(\"'\"&A7&\"'!\"&\"$R$41\")","v":{"$error":"#REF!"}},{"$f":"INDIRECT(\"'\"&A7&\"'!\"&\"$K$45\")","v":{"$error":"#REF!"}}]
[null,{"$f":"INDIRECT(\"'\"&A8&\"'!\"&\"$M$3\")","v":{"$error":"#REF!"}},{"$f":"INDIRECT(\"'\"&A8&\"'!\"&\"$I$5\")","v":{"$error":"#REF!"}},null,null,null,{"$f":"INDIRECT(\"'\"&A8&\"'!\"&\"$C$5\")","v":{"$error":"#REF!"}},{"$f":"INDIRECT(\"'\"&A8&\"'!\"&\"$N$23\")","v":{"$error":"#REF!"}},{"$f":"INDIRECT(\"'\"&A8&\"'!\"&\"$N$33\")","v":{"$error":"#REF!"}},{"$f":"INDIRECT(\"'\"&A8&\"'!\"&\"$R$41\")","v":{"$error":"#REF!"}},{"$f":"INDIRECT(\"'\"&A8&\"'!\"&\"$K$45\")","v":{"$error":"#REF!"}}]
[null,{"$error":"#REF!"},{"$error":"#REF!"},null,null,null,{"$error":"#REF!"},{"$error":"#REF!"},{"$error":"#REF!"},{"$error":"#REF!"},{"$error":"#REF!"}]
[null,{"$error":"#REF!"},{"$error":"#REF!"},null,null,null,{"$error":"#REF!"},{"$error":"#REF!"},{"$error":"#REF!"},{"$error":"#REF!"},{"$error":"#REF!"}]
[null,{"$error":"#REF!"},{"$error":"#REF!"},null,null,null,{"$error":"#REF!"},{"$error":"#REF!"},{"$error":"#REF!"},{"$error":"#REF!"},{"$error":"#REF!"}]
[null,{"$error":"#REF!"},{"$error":"#REF!"},null,null,null,{"$error":"#REF!"},{"$error":"#REF!"},{"$error":"#REF!"},{"$error":"#REF!"},{"$error":"#REF!"}]
[null,{"$error":"#REF!"},{"$error":"#REF!"},null,null,null,{"$error":"#REF!"},{"$error":"#REF!"},{"$error":"#REF!"},{"$error":"#REF!"},{"$error":"#REF!"}]
[null,{"$error":"#REF!"},{"$error":"#REF!"},null,null,null,{"$error":"#REF!"},{"$error":"#REF!"},{"$error":"#REF!"},{"$error":"#REF!"},{"$error":"#REF!"}]
[null,{"$error":"#REF!"},{"$error":"#REF!"},null,null,null,{"$error":"#REF!"},{"$error":"#REF!"},{"$error":"#REF!"},{"$error":"#REF!"},{"$error":"#REF!"}]
[null,{"$f":"INDIRECT(\"'\"&A16&\"'!\"&\"$M$3\")","v":{"$error":"#REF!"}},{"$f":"INDIRECT(\"'\"&A16&\"'!\"&\"$I$5\")","v":{"$error":"#REF!"}},null,null,null,{"$f":"INDIRECT(\"'\"&A16&\"'!\"&\"$C$5\")","v":{"$error":"#REF!"}},{"$f":"INDIRECT(\"'\"&A16&\"'!\"&\"$N$23\")","v":{"$error":"#REF!"}},{"$f":"INDIRECT(\"'\"&A16&\"'!\"&\"$N$33\")","v":{"$error":"#REF!"}},{"$f":"INDIRECT(\"'\"&A16&\"'!\"&\"$R$41\")","v":{"$error":"#REF!"}},{"$f":"INDIRECT(\"'\"&A16&\"'!\"&\"$K$45\")","v":{"$error":"#REF!"}}]
[null,{"$f":"INDIRECT(\"'\"&A17&\"'!\"&\"$M$3\")","v":{"$error":"#REF!"}},{"$f":"INDIRECT(\"'\"&A17&\"'!\"&\"$I$5\")","v":{"$error":"#REF!"}},null,null,null,{"$f":"INDIRECT(\"'\"&A17&\"'!\"&\"$C$5\")","v":{"$error":"#REF!"}},{"$f":"INDIRECT(\"'\"&A17&\"'!\"&\"$N$23\")","v":{"$error":"#REF!"}},{"$f":"INDIRECT(\"'\"&A17&\"'!\"&\"$N$33\")","v":{"$error":"#REF!"}},{"$f":"INDIRECT(\"'\"&A17&\"'!\"&\"$R$41\")","v":{"$error":"#REF!"}},{"$f":"INDIRECT(\"'\"&A17&\"'!\"&\"$K$45\")","v":{"$error":"#REF!"}}]
[null,{"$f":"INDIRECT(\"'\"&A18&\"'!\"&\"$M$3\")","v":{"$error":"#REF!"}},{"$f":"INDIRECT(\"'\"&A18&\"'!\"&\"$I$5\")","v":{"$error":"#REF!"}},null,null,null,{"$f":"INDIRECT(\"'\"&A18&\"'!\"&\"$C$5\")","v":{"$error":"#REF!"}},{"$f":"INDIRECT(\"'\"&A18&\"'!\"&\"$N$23\")","v":{"$error":"#REF!"}},{"$f":"INDIRECT(\"'\"&A18&\"'!\"&\"$N$33\")","v":{"$error":"#REF!"}},{"$f":"INDIRECT(\"'\"&A18&\"'!\"&\"$R$41\")","v":{"$error":"#REF!"}},{"$f":"INDIRECT(\"'\"&A18&\"'!\"&\"$K$45\")","v":{"$error":"#REF!"}}]
[null,{"$f":"INDIRECT(\"'\"&A19&\"'!\"&\"$M$3\")","v":{"$error":"#REF!"}},{"$f":"INDIRECT(\"'\"&A19&\"'!\"&\"$I$5\")","v":{"$error":"#REF!"}},null,null,null,{"$f":"INDIRECT(\"'\"&A19&\"'!\"&\"$C$5\")","v":{"$error":"#REF!"}},{"$f":"INDIRECT(\"'\"&A19&\"'!\"&\"$N$23\")","v":{"$error":"#REF!"}},{"$f":"INDIRECT(\"'\"&A19&\"'!\"&\"$N$33\")","v":{"$error":"#REF!"}},{"$f":"INDIRECT(\"'\"&A19&\"'!\"&\"$R$41\")","v":{"$error":"#REF!"}},{"$f":"INDIRECT(\"'\"&A19&\"'!\"&\"$K$45\")","v":{"$error":"#REF!"}}]
[null,{"$f":"INDIRECT(\"'\"&A20&\"'!\"&\"$M$3\")","v":{"$error":"#REF!"}},{"$f":"INDIRECT(\"'\"&A20&\"'!\"&\"$I$5\")","v":{"$error":"#REF!"}},null,null,null,{"$f":"INDIRECT(\"'\"&A20&\"'!\"&\"$C$5\")","v":{"$error":"#REF!"}},{"$f":"INDIRECT(\"'\"&A20&\"'!\"&\"$N$23\")","v":{"$error":"#REF!"}},{"$f":"INDIRECT(\"'\"&A20&\"'!\"&\"$N$33\")","v":{"$error":"#REF!"}},{"$f":"INDIRECT(\"'\"&A20&\"'!\"&\"$R$41\")","v":{"$error":"#REF!"}},{"$f":"INDIRECT(\"'\"&A20&\"'!\"&\"$K$45\")","v":{"$error":"#REF!"}}]
[null,{"$f":"INDIRECT(\"'\"&A21&\"'!\"&\"$M$3\")","v":{"$error":"#REF!"}},{"$f":"INDIRECT(\"'\"&A21&\"'!\"&\"$I$5\")","v":{"$error":"#REF!"}},null,null,null,{"$f":"INDIRECT(\"'\"&A21&\"'!\"&\"$C$5\")","v":{"$error":"#REF!"}},{"$f":"INDIRECT(\"'\"&A21&\"'!\"&\"$N$23\")","v":{"$error":"#REF!"}},{"$f":"INDIRECT(\"'\"&A21&\"'!\"&\"$N$33\")","v":{"$error":"#REF!"}},{"$f":"INDIRECT(\"'\"&A21&\"'!\"&\"$R$41\")","v":{"$error":"#REF!"}},{"$f":"INDIRECT(\"'\"&A21&\"'!\"&\"$K$45\")","v":{"$error":"#REF!"}}]
[null,{"$error":"#REF!"},{"$error":"#REF!"},null,null,null,{"$error":"#REF!"},{"$error":"#REF!"},{"$error":"#REF!"},{"$error":"#REF!"},{"$error":"#REF!"}]
[null,{"$f":"INDIRECT(\"'\"&A23&\"'!\"&\"$M$3\")","v":{"$error":"#REF!"}},{"$f":"INDIRECT(\"'\"&A23&\"'!\"&\"$I$5\")","v":{"$error":"#REF!"}},null,null,null,{"$f":"INDIRECT(\"'\"&A23&\"'!\"&\"$C$5\")","v":{"$error":"#REF!"}},{"$f":"INDIRECT(\"'\"&A23&\"'!\"&\"$N$23\")","v":{"$error":"#REF!"}},{"$f":"INDIRECT(\"'\"&A23&\"'!\"&\"$N$33\")","v":{"$error":"#REF!"}},{"$f":"INDIRECT(\"'\"&A23&\"'!\"&\"$R$41\")","v":{"$error":"#REF!"}},{"$f":"INDIRECT(\"'\"&A23&\"'!\"&\"$K$45\")","v":{"$error":"#REF!"}}]
[null,{"$f":"INDIRECT(\"'\"&A24&\"'!\"&\"$M$3\")","v":{"$error":"#REF!"}},{"$f":"INDIRECT(\"'\"&A24&\"'!\"&\"$I$5\")","v":{"$error":"#REF!"}},null,null,null,{"$f":"INDIRECT(\"'\"&A24&\"'!\"&\"$C$5\")","v":{"$error":"#REF!"}},{"$f":"INDIRECT(\"'\"&A24&\"'!\"&\"$N$23\")","v":{"$error":"#REF!"}},{"$f":"INDIRECT(\"'\"&A24&\"'!\"&\"$N$33\")","v":{"$error":"#REF!"}},{"$f":"INDIRECT(\"'\"&A24&\"'!\"&\"$R$41\")","v":{"$error":"#REF!"}},{"$f":"INDIRECT(\"'\"&A24&\"'!\"&\"$K$45\")","v":{"$error":"#REF!"}}]
[null,{"$f":"INDIRECT(\"'\"&A25&\"'!\"&\"$M$3\")","v":{"$error":"#REF!"}},{"$f":"INDIRECT(\"'\"&A25&\"'!\"&\"$I$5\")","v":{"$error":"#REF!"}},null,null,null,{"$f":"INDIRECT(\"'\"&A25&\"'!\"&\"$C$5\")","v":{"$error":"#REF!"}},{"$f":"INDIRECT(\"'\"&A25&\"'!\"&\"$N$23\")","v":{"$error":"#REF!"}},{"$f":"INDIRECT(\"'\"&A25&\"'!\"&\"$N$33\")","v":{"$error":"#REF!"}},{"$f":"INDIRECT(\"'\"&A25&\"'!\"&\"$R$41\")","v":{"$error":"#REF!"}},{"$f":"INDIRECT(\"'\"&A25&\"'!\"&\"$K$45\")","v":{"$error":"#REF!"}}]
[null,{"$f":"INDIRECT(\"'\"&A26&\"'!\"&\"$M$3\")","v":{"$error":"#REF!"}},{"$f":"INDIRECT(\"'\"&A26&\"'!\"&\"$I$5\")","v":{"$error":"#REF!"}},null,null,null,{"$f":"INDIRECT(\"'\"&A26&\"'!\"&\"$C$5\")","v":{"$error":"#REF!"}},{"$f":"INDIRECT(\"'\"&A26&\"'!\"&\"$N$23\")","v":{"$error":"#REF!"}},{"$f":"INDIRECT(\"'\"&A26&\"'!\"&\"$N$33\")","v":{"$error":"#REF!"}},{"$f":"INDIRECT(\"'\"&A26&\"'!\"&\"$R$41\")","v":{"$error":"#REF!"}},{"$f":"INDIRECT(\"'\"&A26&\"'!\"&\"$K$45\")","v":{"$error":"#REF!"}}]
[null,{"$f":"INDIRECT(\"'\"&A27&\"'!\"&\"$M$3\")","v":{"$error":"#REF!"}},{"$f":"INDIRECT(\"'\"&A27&\"'!\"&\"$I$5\")","v":{"$error":"#REF!"}},null,null,null,{"$f":"INDIRECT(\"'\"&A27&\"'!\"&\"$C$5\")","v":{"$error":"#REF!"}},{"$f":"INDIRECT(\"'\"&A27&\"'!\"&\"$N$23\")","v":{"$error":"#REF!"}},{"$f":"INDIRECT(\"'\"&A27&\"'!\"&\"$N$33\")","v":{"$error":"#REF!"}},{"$f":"INDIRECT(\"'\"&A27&\"'!\"&\"$R$41\")","v":{"$error":"#REF!"}},{"$f":"INDIRECT(\"'\"&A27&\"'!\"&\"$K$45\")","v":{"$error":"#REF!"}}]
[null,{"$f":"INDIRECT(\"'\"&A28&\"'!\"&\"$M$3\")","v":{"$error":"#REF!"}},{"$f":"INDIRECT(\"'\"&A28&\"'!\"&\"$I$5\")","v":{"$error":"#REF!"}},null,null,null,{"$f":"INDIRECT(\"'\"&A28&\"'!\"&\"$C$5\")","v":{"$error":"#REF!"}},{"$f":"INDIRECT(\"'\"&A28&\"'!\"&\"$N$23\")","v":{"$error":"#REF!"}},{"$f":"INDIRECT(\"'\"&A28&\"'!\"&\"$N$33\")","v":{"$error":"#REF!"}},{"$f":"INDIRECT(\"'\"&A28&\"'!\"&\"$R$41\")","v":{"$error":"#REF!"}},{"$f":"INDIRECT(\"'\"&A28&\"'!\"&\"$K$45\")","v":{"$error":"#REF!"}}]
[null,{"$error":"#REF!"},{"$error":"#REF!"},null,null,null,{"$error":"#REF!"},{"$error":"#REF!"},{"$error":"#REF!"},{"$error":"#REF!"},{"$error":"#REF!"}]
[null,{"$f":"INDIRECT(\"'\"&A30&\"'!\"&\"$M$3\")","v":{"$error":"#REF!"}},{"$f":"INDIRECT(\"'\"&A30&\"'!\"&\"$I$5\")","v":{"$error":"#REF!"}},null,null,null,{"$f":"INDIRECT(\"'\"&A30&\"'!\"&\"$C$5\")","v":{"$error":"#REF!"}},{"$f":"INDIRECT(\"'\"&A30&\"'!\"&\"$N$23\")","v":{"$error":"#REF!"}},{"$f":"INDIRECT(\"'\"&A30&\"'!\"&\"$N$33\")","v":{"$error":"#REF!"}},{"$f":"INDIRECT(\"'\"&A30&\"'!\"&\"$R$41\")","v":{"$error":"#REF!"}},{"$f":"INDIRECT(\"'\"&A30&\"'!\"&\"$K$45\")","v":{"$error":"#REF!"}}]
[null,{"$error":"#REF!"},{"$error":"#REF!"},null,null,null,{"$error":"#REF!"},{"$error":"#REF!"},{"$error":"#REF!"},{"$error":"#REF!"},{"$error":"#REF!"}]
[null,{"$error":"#REF!"},{"$error":"#REF!"},null,null,null,{"$error":"#REF!"},{"$error":"#REF!"},{"$error":"#REF!"},{"$error":"#REF!"},{"$error":"#REF!"}]
[null,{"$error":"#REF!"},{"$error":"#REF!"},null,null,null,{"$error":"#REF!"},{"$error":"#REF!"},{"$error":"#REF!"},{"$error":"#REF!"},{"$error":"#REF!"}]
[null,{"$error":"#REF!"},{"$error":"#REF!"},null,null,null,{"$error":"#REF!"},{"$error":"#REF!"},{"$error":"#REF!"},{"$error":"#REF!"},{"$error":"#REF!"}]
[null,{"$error":"#REF!"},{"$error":"#REF!"},null,null,null,{"$error":"#REF!"},{"$error":"#REF!"},{"$error":"#REF!"},{"$error":"#REF!"},{"$error":"#REF!"}]
[null,{"$error":"#REF!"},{"$error":"#REF!"},null,null,null,{"$error":"#REF!"},{"$error":"#REF!"},{"$error":"#REF!"},{"$error":"#REF!"},{"$error":"#REF!"}]
[null,{"$error":"#REF!"},{"$error":"#REF!"},null,null,null,{"$error":"#REF!"},{"$error":"#REF!"},{"$error":"#REF!"},{"$error":"#REF!"},{"$error":"#REF!"}]
[null,{"$error":"#REF!"},{"$error":"#REF!"},null,null,null,{"$error":"#REF!"},{"$error":"#REF!"},{"$error":"#REF!"},{"$error":"#REF!"},{"$error":"#REF!"}]
[null,{"$error":"#REF!"},{"$error":"#REF!"},null,null,null,{"$error":"#REF!"},{"$error":"#REF!"},{"$error":"#REF!"},{"$error":"#REF!"},{"$error":"#REF!"}]
[null,{"$error":"#REF!"},{"$error":"#REF!"},null,null,null,{"$error":"#REF!"},{"$error":"#REF!"},{"$error":"#REF!"},{"$error":"#REF!"},{"$error":"#REF!"}]
[null,{"$error":"#REF!"},{"$error":"#REF!"},null,null,null,{"$error":"#REF!"},{"$error":"#REF!"},{"$error":"#REF!"},{"$error":"#REF!"},{"$error":"#REF!"}]
[null,{"$error":"#REF!"},{"$error":"#REF!"},null,null,null,{"$error":"#REF!"},{"$error":"#REF!"},{"$error":"#REF!"},{"$error":"#REF!"},{"$error":"#REF!"}]
[null,{"$error":"#REF!"},{"$error":"#REF!"},null,null,null,{"$error":"#REF!"},{"$error":"#REF!"},{"$error":"#REF!"},{"$error":"#REF!"},{"$error":"#REF!"}]
[null,{"$error":"#REF!"},{"$error":"#REF!"},null,null,null,{"$error":"#REF!"},{"$error":"#REF!"},{"$error":"#REF!"},{"$error":"#REF!"},{"$error":"#REF!"}]
[null,{"$error":"#REF!"},{"$error":"#REF!"},null,null,null,{"$error":"#REF!"},{"$error":"#REF!"},{"$error":"#REF!"},{"$error":"#REF!"},{"$error":"#REF!"}]
[null,{"$error":"#REF!"},{"$error":"#REF!"},null,null,null,{"$error":"#REF!"},{"$error":"#REF!"},{"$error":"#REF!"},{"$error":"#REF!"},{"$error":"#REF!"}]
[null,{"$error":"#REF!"},{"$error":"#REF!"},null,null,null,{"$error":"#REF!"},{"$error":"#REF!"},{"$error":"#REF!"},{"$error":"#REF!"},{"$error":"#REF!"}]
[null,{"$error":"#REF!"},{"$error":"#REF!"},null,null,null,{"$error":"#REF!"},{"$error":"#REF!"},{"$error":"#REF!"},{"$error":"#REF!"},{"$error":"#REF!"}]
[null,{"$error":"#REF!"},{"$error":"#REF!"},null,null,null,{"$error":"#REF!"},{"$error":"#REF!"},{"$error":"#REF!"},{"$error":"#REF!"},{"$error":"#REF!"}]
[null,{"$error":"#REF!"},{"$error":"#REF!"},null,null,null,{"$error":"#REF!"},{"$error":"#REF!"},{"$error":"#REF!"},{"$error":"#REF!"},{"$error":"#REF!"}]
[null,{"$error":"#REF!"},{"$error":"#REF!"},null,null,null,{"$error":"#REF!"},{"$error":"#REF!"},{"$error":"#REF!"},{"$error":"#REF!"},{"$error":"#REF!"}]
[null,{"$error":"#REF!"},{"$error":"#REF!"},null,null,null,{"$error":"#REF!"},{"$error":"#REF!"},{"$error":"#REF!"},{"$error":"#REF!"},{"$error":"#REF!"}]
[null,{"$error":"#REF!"},{"$error":"#REF!"},null,null,null,{"$error":"#REF!"},{"$error":"#REF!"},{"$error":"#REF!"},{"$error":"#REF!"},{"$error":"#REF!"}]
[null,{"$error":"#REF!"},{"$error":"#REF!"},null,null,null,{"$error":"#REF!"},{"$error":"#REF!"},{"$error":"#REF!"},{"$error":"#REF!"},{"$error":"#REF!"}]
[null,{"$error":"#REF!"},{"$error":"#REF!"},null,null,null,{"$error":"#REF!"},{"$error":"#REF!"},{"$error":"#REF!"},{"$error":"#REF!"},{"$error":"#REF!"}]
[null,{"$error":"#REF!"},{"$error":"#REF!"},null,null,null,{"$error":"#REF!"},{"$error":"#REF!"},{"$error":"#REF!"},{"$error":"#REF!"},{"$error":"#REF!"}]
[null,{"$error":"#REF!"},{"$error":"#REF!"},null,null,null,{"$error":"#REF!"},{"$error":"#REF!"},{"$error":"#REF!"},{"$error":"#REF!"},{"$error":"#REF!"}]
[null,{"$error":"#REF!"},{"$error":"#REF!"},null,null,null,{"$error":"#REF!"},{"$error":"#REF!"},{"$error":"#REF!"},{"$error":"#REF!"},{"$error":"#REF!"}]
[null,{"$error":"#REF!"},{"$error":"#REF!"},null,null,null,{"$error":"#REF!"},{"$error":"#REF!"},{"$error":"#REF!"},{"$error":"#REF!"},{"$error":"#REF!"}]
[null,{"$error":"#REF!"},{"$error":"#REF!"},null,null,null,{"$error":"#REF!"},{"$error":"#REF!"},{"$error":"#REF!"},{"$error":"#REF!"},{"$error":"#REF!"}]
[null,{"$error":"#REF!"},{"$error":"#REF!"},null,null,null,{"$error":"#REF!"},{"$error":"#REF!"},{"$error":"#REF!"},{"$error":"#REF!"},{"$error":"#REF!"}]
[null,{"$error":"#REF!"},{"$error":"#REF!"},null,null,null,{"$error":"#REF!"},{"$error":"#REF!"},{"$error":"#REF!"},{"$error":"#REF!"},{"$error":"#REF!"}]
[null,{"$f":"INDIRECT(\"'\"&A63&\"'!\"&\"$M$3\")","v":{"$error":"#REF!"}},{"$f":"INDIRECT(\"'\"&A63&\"'!\"&\"$I$5\")","v":{"$error":"#REF!"}},null,null,null,{"$f":"INDIRECT(\"'\"&A63&\"'!\"&\"$C$5\")","v":{"$error":"#REF!"}},{"$f":"INDIRECT(\"'\"&A63&\"'!\"&\"$N$23\")","v":{"$error":"#REF!"}},{"$f":"INDIRECT(\"'\"&A63&\"'!\"&\"$N$33\")","v":{"$error":"#REF!"}},{"$f":"INDIRECT(\"'\"&A63&\"'!\"&\"$R$41\")","v":{"$error":"#REF!"}},{"$f":"INDIRECT(\"'\"&A63&\"'!\"&\"$K$45\")","v":{"$error":"#REF!"}}]
[null,{"$f":"INDIRECT(\"'\"&A64&\"'!\"&\"$M$3\")","v":{"$error":"#REF!"}},{"$f":"INDIRECT(\"'\"&A64&\"'!\"&\"$I$5\")","v":{"$error":"#REF!"}},null,null,null,{"$f":"INDIRECT(\"'\"&A64&\"'!\"&\"$C$5\")","v":{"$error":"#REF!"}},{"$f":"INDIRECT(\"'\"&A64&\"'!\"&\"$N$23\")","v":{"$error":"#REF!"}},{"$f":"INDIRECT(\"'\"&A64&\"'!\"&\"$N$33\")","v":{"$error":"#REF!"}},{"$f":"INDIRECT(\"'\"&A64&\"'!\"&\"$R$41\")","v":{"$error":"#REF!"}},{"$f":"INDIRECT(\"'\"&A64&\"'!\"&\"$K$45\")","v":{"$error":"#REF!"}}]
[null,{"$f":"INDIRECT(\"'\"&A65&\"'!\"&\"$M$3\")","v":{"$error":"#REF!"}},{"$f":"INDIRECT(\"'\"&A65&\"'!\"&\"$I$5\")","v":{"$error":"#REF!"}},null,null,null,{"$f":"INDIRECT(\"'\"&A65&\"'!\"&\"$C$5\")","v":{"$error":"#REF!"}},{"$f":"INDIRECT(\"'\"&A65&\"'!\"&\"$N$23\")","v":{"$error":"#REF!"}},{"$f":"INDIRECT(\"'\"&A65&\"'!\"&\"$N$33\")","v":{"$error":"#REF!"}},{"$f":"INDIRECT(\"'\"&A65&\"'!\"&\"$R$41\")","v":{"$error":"#REF!"}},{"$f":"INDIRECT(\"'\"&A65&\"'!\"&\"$K$45\")","v":{"$error":"#REF!"}}]
[null,{"$f":"INDIRECT(\"'\"&A66&\"'!\"&\"$M$3\")","v":{"$error":"#REF!"}},{"$f":"INDIRECT(\"'\"&A66&\"'!\"&\"$I$5\")","v":{"$error":"#REF!"}},null,null,null,{"$f":"INDIRECT(\"'\"&A66&\"'!\"&\"$C$5\")","v":{"$error":"#REF!"}},{"$f":"INDIRECT(\"'\"&A66&\"'!\"&\"$N$23\")","v":{"$error":"#REF!"}},{"$f":"INDIRECT(\"'\"&A66&\"'!\"&\"$N$33\")","v":{"$error":"#REF!"}},{"$f":"INDIRECT(\"'\"&A66&\"'!\"&\"$R$41\")","v":{"$error":"#REF!"}},{"$f":"INDIRECT(\"'\"&A66&\"'!\"&\"$K$45\")","v":{"$error":"#REF!"}}]
[null,{"$f":"INDIRECT(\"'\"&A67&\"'!\"&\"$M$3\")","v":{"$error":"#REF!"}},{"$f":"INDIRECT(\"'\"&A67&\"'!\"&\"$I$5\")","v":{"$error":"#REF!"}},null,null,null,{"$f":"INDIRECT(\"'\"&A67&\"'!\"&\"$C$5\")","v":{"$error":"#REF!"}},{"$f":"INDIRECT(\"'\"&A67&\"'!\"&\"$N$23\")","v":{"$error":"#REF!"}},{"$f":"INDIRECT(\"'\"&A67&\"'!\"&\"$N$33\")","v":{"$error":"#REF!"}},{"$f":"INDIRECT(\"'\"&A67&\"'!\"&\"$R$41\")","v":{"$error":"#REF!"}},{"$f":"INDIRECT(\"'\"&A67&\"'!\"&\"$K$45\")","v":{"$error":"#REF!"}}]
[null,{"$f":"INDIRECT(\"'\"&A68&\"'!\"&\"$M$3\")","v":{"$error":"#REF!"}},{"$f":"INDIRECT(\"'\"&A68&\"'!\"&\"$I$5\")","v":{"$error":"#REF!"}},null,null,null,{"$f":"INDIRECT(\"'\"&A68&\"'!\"&\"$C$5\")","v":{"$error":"#REF!"}},{"$f":"INDIRECT(\"'\"&A68&\"'!\"&\"$N$23\")","v":{"$error":"#REF!"}},{"$f":"INDIRECT(\"'\"&A68&\"'!\"&\"$N$33\")","v":{"$error":"#REF!"}},{"$f":"INDIRECT(\"'\"&A68&\"'!\"&\"$R$41\")","v":{"$error":"#REF!"}},{"$f":"INDIRECT(\"'\"&A68&\"'!\"&\"$K$45\")","v":{"$error":"#REF!"}}]
[null,{"$error":"#REF!"},{"$error":"#REF!"},null,null,null,{"$error":"#REF!"},{"$error":"#REF!"},{"$error":"#REF!"},{"$error":"#REF!"},{"$error":"#REF!"}]
[null,{"$f":"INDIRECT(\"'\"&A70&\"'!\"&\"$M$3\")","v":{"$error":"#REF!"}},{"$f":"INDIRECT(\"'\"&A70&\"'!\"&\"$I$5\")","v":{"$error":"#REF!"}},null,null,null,{"$f":"INDIRECT(\"'\"&A70&\"'!\"&\"$C$5\")","v":{"$error":"#REF!"}},{"$f":"INDIRECT(\"'\"&A70&\"'!\"&\"$N$23\")","v":{"$error":"#REF!"}},{"$f":"INDIRECT(\"'\"&A70&\"'!\"&\"$N$33\")","v":{"$error":"#REF!"}},{"$f":"INDIRECT(\"'\"&A70&\"'!\"&\"$R$41\")","v":{"$error":"#REF!"}},{"$f":"INDIRECT(\"'\"&A70&\"'!\"&\"$K$45\")","v":{"$error":"#REF!"}}]
[null,{"$f":"INDIRECT(\"'\"&A71&\"'!\"&\"$M$3\")","v":{"$error":"#REF!"}},{"$f":"INDIRECT(\"'\"&A71&\"'!\"&\"$I$5\")","v":{"$error":"#REF!"}},null,null,null,{"$f":"INDIRECT(\"'\"&A71&\"'!\"&\"$C$5\")","v":{"$error":"#REF!"}},{"$f":"INDIRECT(\"'\"&A71&\"'!\"&\"$N$23\")","v":{"$error":"#REF!"}},{"$f":"INDIRECT(\"'\"&A71&\"'!\"&\"$N$33\")","v":{"$error":"#REF!"}},{"$f":"INDIRECT(\"'\"&A71&\"'!\"&\"$R$41\")","v":{"$error":"#REF!"}},{"$f":"INDIRECT(\"'\"&A71&\"'!\"&\"$K$45\")","v":{"$error":"#REF!"}}]
[null,{"$f":"INDIRECT(\"'\"&A72&\"'!\"&\"$M$3\")","v":{"$error":"#REF!"}},{"$f":"INDIRECT(\"'\"&A72&\"'!\"&\"$I$5\")","v":{"$error":"#REF!"}},null,null,null,{"$f":"INDIRECT(\"'\"&A72&\"'!\"&\"$C$5\")","v":{"$error":"#REF!"}},{"$f":"INDIRECT(\"'\"&A72&\"'!\"&\"$N$23\")","v":{"$error":"#REF!"}},{"$f":"INDIRECT(\"'\"&A72&\"'!\"&\"$N$33\")","v":{"$error":"#REF!"}},{"$f":"INDIRECT(\"'\"&A72&\"'!\"&\"$R$41\")","v":{"$error":"#REF!"}},{"$f":"INDIRECT(\"'\"&A72&\"'!\"&\"$K$45\")","v":{"$error":"#REF!"}}]
[null,{"$f":"INDIRECT(\"'\"&A73&\"'!\"&\"$M$3\")","v":{"$error":"#REF!"}},{"$f":"INDIRECT(\"'\"&A73&\"'!\"&\"$I$5\")","v":{"$error":"#REF!"}},null,null,null,{"$f":"INDIRECT(\"'\"&A73&\"'!\"&\"$C$5\")","v":{"$error":"#REF!"}},{"$f":"INDIRECT(\"'\"&A73&\"'!\"&\"$N$23\")","v":{"$error":"#REF!"}},{"$f":"INDIRECT(\"'\"&A73&\"'!\"&\"$N$33\")","v":{"$error":"#REF!"}},{"$f":"INDIRECT(\"'\"&A73&\"'!\"&\"$R$41\")","v":{"$error":"#REF!"}},{"$f":"INDIRECT(\"'\"&A73&\"'!\"&\"$K$45\")","v":{"$error":"#REF!"}}]
[null,{"$f":"INDIRECT(\"'\"&A74&\"'!\"&\"$M$3\")","v":{"$error":"#REF!"}},{"$f":"INDIRECT(\"'\"&A74&\"'!\"&\"$I$5\")","v":{"$error":"#REF!"}},null,null,null,{"$f":"INDIRECT(\"'\"&A74&\"'!\"&\"$C$5\")","v":{"$error":"#REF!"}},{"$f":"INDIRECT(\"'\"&A74&\"'!\"&\"$N$23\")","v":{"$error":"#REF!"}},{"$f":"INDIRECT(\"'\"&A74&\"'!\"&\"$N$33\")","v":{"$error":"#REF!"}},{"$f":"INDIRECT(\"'\"&A74&\"'!\"&\"$R$41\")","v":{"$error":"#REF!"}},{"$f":"INDIRECT(\"'\"&A74&\"'!\"&\"$K$45\")","v":{"$error":"#REF!"}}]
[null,{"$f":"INDIRECT(\"'\"&A75&\"'!\"&\"$M$3\")","v":{"$error":"#REF!"}},{"$f":"INDIRECT(\"'\"&A75&\"'!\"&\"$I$5\")","v":{"$error":"#REF!"}},null,null,null,{"$f":"INDIRECT(\"'\"&A75&\"'!\"&\"$C$5\")","v":{"$error":"#REF!"}},{"$f":"INDIRECT(\"'\"&A75&\"'!\"&\"$N$23\")","v":{"$error":"#REF!"}},{"$f":"INDIRECT(\"'\"&A75&\"'!\"&\"$N$33\")","v":{"$error":"#REF!"}},{"$f":"INDIRECT(\"'\"&A75&\"'!\"&\"$R$41\")","v":{"$error":"#REF!"}},{"$f":"INDIRECT(\"'\"&A75&\"'!\"&\"$K$45\")","v":{"$error":"#REF!"}}]
[null,{"$error":"#REF!"},{"$error":"#REF!"},null,null,null,{"$error":"#REF!"},{"$error":"#REF!"},{"$error":"#REF!"},{"$error":"#REF!"},{"$error":"#REF!"}]
[null,{"$error":"#REF!"},{"$error":"#REF!"},null,null,null,{"$error":"#REF!"},{"$error":"#REF!"},{"$error":"#REF!"},{"$error":"#REF!"},{"$error":"#REF!"}]
[null,{"$error":"#REF!"},{"$error":"#REF!"},null,null,null,{"$error":"#REF!"},{"$error":"#REF!"},{"$error":"#REF!"},{"$error":"#REF!"},{"$error":"#REF!"}]
[null,{"$error":"#REF!"},{"$error":"#REF!"},null,null,null,{"$error":"#REF!"},{"$error":"#REF!"},{"$error":"#REF!"},{"$error":"#REF!"},{"$error":"#REF!"}]
[null,{"$error":"#REF!"},{"$error":"#REF!"},null,null,null,{"$error":"#REF!"},{"$error":"#REF!"},{"$error":"#REF!"},{"$error":"#REF!"},{"$error":"#REF!"}]
[null,{"$error":"#REF!"},{"$error":"#REF!"},null,null,null,{"$error":"#REF!"},{"$error":"#REF!"},{"$error":"#REF!"},{"$error":"#REF!"},{"$error":"#REF!"}]
[null,{"$error":"#REF!"},{"$error":"#REF!"},null,null,null,{"$error":"#REF!"},{"$error":"#REF!"},{"$error":"#REF!"},{"$error":"#REF!"},{"$error":"#REF!"}]
[null,{"$error":"#REF!"},{"$error":"#REF!"},null,null,null,{"$error":"#REF!"},{"$error":"#REF!"},{"$error":"#REF!"},{"$error":"#REF!"},{"$error":"#REF!"}]
[null,{"$error":"#REF!"},{"$error":"#REF!"},null,null,null,{"$error":"#REF!"},{"$error":"#REF!"},{"$error":"#REF!"},{"$error":"#REF!"},{"$error":"#REF!"}]
[null,{"$error":"#REF!"},{"$error":"#REF!"},null,null,null,{"$error":"#REF!"},{"$error":"#REF!"},{"$error":"#REF!"},{"$error":"#REF!"},{"$error":"#REF!"}]
[null,{"$error":"#REF!"},{"$error":"#REF!"},null,null,null,{"$error":"#REF!"},{"$error":"#REF!"},{"$error":"#REF!"},{"$error":"#REF!"},{"$error":"#REF!"}]
[null,{"$error":"#REF!"},{"$error":"#REF!"},null,null,null,{"$error":"#REF!"},{"$error":"#REF!"},{"$error":"#REF!"},{"$error":"#REF!"},{"$error":"#REF!"}]
[null,{"$error":"#REF!"},{"$error":"#REF!"},null,null,null,{"$error":"#REF!"},{"$error":"#REF!"},{"$error":"#REF!"},{"$error":"#REF!"},{"$error":"#REF!"}]
[null,{"$error":"#REF!"},{"$error":"#REF!"},null,null,null,{"$error":"#REF!"},{"$error":"#REF!"},{"$error":"#REF!"},{"$error":"#REF!"},{"$error":"#REF!"}]
[null,{"$error":"#REF!"},{"$error":"#REF!"},null,null,null,{"$error":"#REF!"},{"$error":"#REF!"},{"$error":"#REF!"},{"$error":"#REF!"},{"$error":"#REF!"}]
[null,{"$error":"#REF!"},{"$error":"#REF!"},null,null,null,{"$error":"#REF!"},{"$error":"#REF!"},{"$error":"#REF!"},{"$error":"#REF!"},{"$error":"#REF!"}]
[null,{"$error":"#REF!"},{"$error":"#REF!"},null,null,null,{"$error":"#REF!"},{"$error":"#REF!"},{"$error":"#REF!"},{"$error":"#REF!"},{"$error":"#REF!"}]
[null,{"$error":"#REF!"},{"$error":"#REF!"},null,null,null,{"$error":"#REF!"},{"$error":"#REF!"},{"$error":"#REF!"},{"$error":"#REF!"},{"$error":"#REF!"}]
[null,{"$error":"#REF!"},{"$error":"#REF!"},null,null,null,{"$error":"#REF!"},{"$error":"#REF!"},{"$error":"#REF!"},{"$error":"#REF!"},{"$error":"#REF!"}]
[null,{"$error":"#REF!"},{"$error":"#REF!"},null,null,null,{"$error":"#REF!"},{"$error":"#REF!"},{"$error":"#REF!"},{"$error":"#REF!"},{"$error":"#REF!"}]
[null,{"$error":"#REF!"},{"$f":"INDIRECT(\"'\"&A96&\"'!\"&\"$I$5\")","v":{"$error":"#REF!"}},null,null,null,{"$f":"INDIRECT(\"'\"&A96&\"'!\"&\"$C$5\")","v":{"$error":"#REF!"}},{"$f":"INDIRECT(\"'\"&A96&\"'!\"&\"$N$23\")","v":{"$error":"#REF!"}},{"$f":"INDIRECT(\"'\"&A96&\"'!\"&\"$N$33\")","v":{"$error":"#REF!"}},{"$f":"INDIRECT(\"'\"&A96&\"'!\"&\"$R$41\")","v":{"$error":"#REF!"}},{"$f":"INDIRECT(\"'\"&A96&\"'!\"&\"$K$45\")","v":{"$error":"#REF!"}}]
[null,{"$error":"#REF!"},{"$error":"#REF!"},null,null,null,{"$error":"#REF!"},{"$error":"#REF!"},{"$error":"#REF!"},{"$error":"#REF!"},{"$error":"#REF!"}]
[null,{"$error":"#REF!"},{"$error":"#REF!"},null,null,null,{"$error":"#REF!"},{"$error":"#REF!"},{"$error":"#REF!"},{"$error":"#REF!"},{"$error":"#REF!"}]
[null,{"$error":"#REF!"},{"$error":"#REF!"},null,null,null,{"$error":"#REF!"},{"$error":"#REF!"},{"$error":"#REF!"},{"$error":"#REF!"},{"$error":"#REF!"}]
[null,{"$error":"#REF!"},{"$error":"#REF!"},null,null,null,{"$error":"#REF!"},{"$error":"#REF!"},{"$error":"#REF!"},{"$error":"#REF!"},{"$error":"#REF!"}]
[null,{"$error":"#REF!"},{"$error":"#REF!"},null,null,null,{"$error":"#REF!"},{"$error":"#REF!"},{"$error":"#REF!"},{"$error":"#REF!"},{"$error":"#REF!"}]
[null,{"$error":"#REF!"},{"$error":"#REF!"},null,null,null,{"$error":"#REF!"},{"$error":"#REF!"},{"$error":"#REF!"},{"$error":"#REF!"},{"$error":"#REF!"}]
[null,{"$error":"#REF!"},{"$error":"#REF!"},null,null,null,{"$error":"#REF!"},{"$error":"#REF!"},{"$error":"#REF!"},{"$error":"#REF!"},{"$error":"#REF!"}]
[null,{"$error":"#REF!"},{"$error":"#REF!"},null,null,null,{"$error":"#REF!"},{"$error":"#REF!"},{"$error":"#REF!"},{"$error":"#REF!"},{"$error":"#REF!"}]
[null,{"$error":"#REF!"},{"$error":"#REF!"},null,null,null,{"$error":"#REF!"},{"$error":"#REF!"},{"$error":"#REF!"},{"$error":"#REF!"},{"$error":"#REF!"}]
[null,{"$error":"#REF!"},{"$error":"#REF!"},null,null,null,{"$error":"#REF!"},{"$error":"#REF!"},{"$error":"#REF!"},{"$error":"#REF!"},{"$error":"#REF!"}]
[null,{"$error":"#REF!"},{"$error":"#REF!"},null,null,null,{"$error":"#REF!"},{"$error":"#REF!"},{"$error":"#REF!"},{"$error":"#REF!"},{"$error":"#REF!"}]
[null,{"$error":"#REF!"},{"$error":"#REF!"},null,null,null,{"$error":"#REF!"},{"$error":"#REF!"},{"$error":"#REF!"},{"$error":"#REF!"},{"$error":"#REF!"}]
[null,null,null,null,null,null,null,null,null,null,"Repair outcomes highlighted in yellow are borderline and require careful checking by fire engineers."]

{"sheet":"Data","index":4,"n_rows":67,"n_cols":6,"rows_kept":67,"cut":false,"hidden":false,"merged":[[50,3,50,4],[45,3,45,5],[46,3,46,5],[47,3,47,5],[44,3,44,5],[49,3,49,4]]}
[]
[]
[]
["What is at Risk?",null,null,"Builder's Work Required"]
[0.5,"Storage/Commercial Property",null,0,"None (defect is completely accessible)"]
[1,"Adjacent Dwelling(s)",null,1,"Minor (e.g. remove linings only)"]
[2,"Safe Path/Common Exit",null,2,"Moderate (e.g. adjust framing, cabinetry)"]
[2,"Critical Structure",null,3,"Major (strip bathroom - multiple trades)"]
[]
["Proximity to Fire Station",null,null,"Total Cost of Work (per defect)"]
[0,"Within 5km, manned",null,1,"$0-$1000","Guess"]
[1,"Within 5km, Volunteer",null,2,"$1001-2000","QS Estimate"]
[1,"Within 5-10km, manned",null,3,"$2001-$4000","Quote"]
[2,"Within 5-10km, Volunteer",null,4,"$4001-$6000"]
[3,">10km",null,5,"$6001-$8000"]
[null,null,null,6,"$8001+"]
["Construction Type"]
[1,"Concrete floors and IT walls",null,"Additional Time Involved"]
[1.5,"Concrete floors/timber IT walls",null,0,"None","Estimate"]
[2.5,"Timber floors and walls",null,1,"Less than 1 week","EOT"]
[null,null,null,2,"1-2 weeks"]
["Automatic Warning/Suppression",null,null,3,"2-3 weeks"]
[0.4,"Sprinklers",null,4,"3-4 weeks"]
[0.8,"Interconnected Smoke Detectors",null,5,"4-5 weeks"]
[1,"Brigade connected alarm",null,6,"5-6 weeks"]
[1.2,"Alarm with manual call",null,7,"6-7 weeks"]
[null,null,null,8,"7+ weeks"]
["Size of Defect"]
[1,"Small",null,"Is Consent Amendment Required"]
[2,"Medium",null,0,"No"]
[3,"Large",null,2,"Yes"]
[5,"Whole Wall/Ceiling"]
[null,null,null,"Health and Safety Risk"]
["Required FRR",null,null,0,"Low"]
[1,"Smoke Seal Only",null,2,"Medium"]
[1,"15 Minutes",null,4,"High"]
[2,"30 Minutes"]
[3,"60 Minutes",null,null,"Cost/Time Score Boundaries:"]
[4,"90 Minutes",null,1,2]
[6,"120 Minutes",null,2,4]
[8,"240 Minutes",null,3,6]
[null,null,null,4,8]
["Risk to Structure",null,null,5,">8"]
[0,"Low"]
[1,"Medium",null,"Outcome Options"]
[2,"High",null,"REPAIR DEFECT"]
[null,null,null,"SMOKE SEAL ONLY"]
["Ignition Source Within Room",null,null,"NOT PRACTICABLE AND REASONABLE TO REPAIR"]
[0,"None"]
[1,"balcony/Deck",null,"Repair defect if score is less than or equal to:",null,15]
[2,"Electrical Cupboard",null,"Smoke seal only if sprinklered and greater than:",null,6]
[2,"Car Park/Other"]
[3,"Commecial Kitchen/Fuel Appliance",null,"REV:","A"]
[4,"Domestic Kitchen",null,"Date","2018-07-11"]
["Vertical Spread"]
[0,"None"]
[2,"Pipe/Cable"]
[5,"Ceiling"]
[10,"Stairs/Duct/Shaft"]
[]
[]
[null,"Risk Score Boundaries:"]
[1,6]
[2,12]
[3,19]
[4,25]
[5,">20"]